BEGIN:VCALENDAR
VERSION:2.0
PRODID:-//wp-events-plugin.com//7.2.3.1//EN
TZID:America/Chicago
X-WR-TIMEZONE:America/Chicago
BEGIN:VEVENT
UID:2@insurancebywebb.com
DTSTART;TZID=America/Chicago:20230426T183000
DTEND;TZID=America/Chicago:20230426T193000
DTSTAMP:20230412T150340Z
URL:https://insurancebywebb.com/events/retirement-educational-seminar-2023
 -04-26/
SUMMARY:Retirement Educational Seminar
DESCRIPTION:\n\nRETIREMENT STRATEGIES\n\nPlanning for retirement can be ove
 rwhelming. We make the process simple and show you how to avoid common\, o
 ften costly\, mistakes.\n\nThis complimentary educational seminar has been
  tailored to provide you with the insight you need to avoid potential pitf
 alls when planning for retirement.\n\nYou’ll gain access to strategies t
 o make strides in the right direction. Learn how to protect yourself and f
 amily from the challenges that we face from living longer.\n\nCome meet ou
 r professional advisors and leave with the confidence to build a rewarding
  retirement.\n\n&nbsp\;\n\nRetirement Educational Seminar\n\nPresented by 
 Chris Webb\n\nWednesday\, April 26th or Tuesday\, May 2nd 6:30PM\n\n\n\nSc
 an with your iphone camera or call 847-235-6014 to RSVP by April 24 \n\nMe
 et the Team of Local Experts - Financial Advisor\, Mortgage Broker and Est
 ate Planning Attorney\n\n&nbsp\;\n\n\n\n&nbsp\;\n\nRegistration:\n\n[gravi
 tyform id="8" title="false" description="false"]
LOCATION:Gorton Community Center - Stuart Community Room\, 400 East Illinoi
 s Road\, Lake Forest\, United States
X-APPLE-STRUCTURED-LOCATION;VALUE=URI;X-ADDRESS=400 East Illinois Road\, La
 ke Forest\, United States;X-APPLE-RADIUS=100;X-TITLE=Gorton Community Cent
 er - Stuart Community Room:geo:0,0
END:VEVENT
BEGIN:VTIMEZONE
TZID:America/Chicago
X-LIC-LOCATION:America/Chicago
BEGIN:DAYLIGHT
DTSTART:20230312T030000
TZOFFSETFROM:-0600
TZOFFSETTO:-0500
TZNAME:CDT
END:DAYLIGHT
END:VTIMEZONE
END:VCALENDAR